BEGIN:VCALENDAR
VERSION:2.0
PRODID:-//neu [nòi] - spazio al lavoro | Il coworking nel cuore di Palermo - ECPv6.15.20//NONSGML v1.0//EN
CALSCALE:GREGORIAN
METHOD:PUBLISH
X-WR-CALNAME:neu [nòi] - spazio al lavoro | Il coworking nel cuore di Palermo
X-ORIGINAL-URL:https://neunoi.it
X-WR-CALDESC:Eventi per neu [nòi] - spazio al lavoro | Il coworking nel cuore di Palermo
REFRESH-INTERVAL;VALUE=DURATION:PT1H
X-Robots-Tag:noindex
X-PUBLISHED-TTL:PT1H
BEGIN:VTIMEZONE
TZID:Europe/Paris
BEGIN:DAYLIGHT
TZOFFSETFROM:+0100
TZOFFSETTO:+0200
TZNAME:CEST
DTSTART:20250330T010000
END:DAYLIGHT
BEGIN:STANDARD
TZOFFSETFROM:+0200
TZOFFSETTO:+0100
TZNAME:CET
DTSTART:20251026T010000
END:STANDARD
BEGIN:DAYLIGHT
TZOFFSETFROM:+0100
TZOFFSETTO:+0200
TZNAME:CEST
DTSTART:20260329T010000
END:DAYLIGHT
BEGIN:STANDARD
TZOFFSETFROM:+0200
TZOFFSETTO:+0100
TZNAME:CET
DTSTART:20261025T010000
END:STANDARD
BEGIN:DAYLIGHT
TZOFFSETFROM:+0100
TZOFFSETTO:+0200
TZNAME:CEST
DTSTART:20270328T010000
END:DAYLIGHT
BEGIN:STANDARD
TZOFFSETFROM:+0200
TZOFFSETTO:+0100
TZNAME:CET
DTSTART:20271031T010000
END:STANDARD
END:VTIMEZONE
BEGIN:VEVENT
DTSTART;TZID=Europe/Paris:20260114T184500
DTEND;TZID=Europe/Paris:20260114T203000
DTSTAMP:20260423T151429
CREATED:20260108T164910Z
LAST-MODIFIED:20260108T164910Z
UID:6977-1768416300-1768422600@neunoi.it
SUMMARY:MercolEdù - Quando l’IA entra in classe
DESCRIPTION:Domande\, paure e possibilità di una scuola che impara a dialogare\nL’intelligenza artificiale è già nelle scuole\, che lo vogliamo o no.La domanda non è se usarla\, ma come: che tipo di dialogo vogliamo costruire con queste macchine e che tipo di educazione può nascere da questo incontro. \nDurante il MercolEdù proveremo a guardare l’IA non come una scorciatoia o una minaccia\, ma come una palestra di linguaggio e di pensiero. Non parleremo tanto di strumenti\, quanto di domande: di prompt\, di errori\, di tentativi\, di quel “non lo so\, prova” che può diventare una pratica educativa potente. \nUn incontro aperto a docenti\, studentesse e studenti\, persone curiose\, genitori e chiunque abbia voglia di interrogarsi su come cambiano la scuola\, il linguaggio e il modo in cui costruiamo conoscenza insieme. \nCome ogni MercolEdù\, una serata di confronto e dialogo tra punti di vista diversi. \nConduce Michelangelo Pavia
URL:https://neunoi.it/event/ia-a-scuola-linguaggio-e-educazione/
LOCATION:neu [nòi]\, via Alloro 64\, Palermo\, Italy
CATEGORIES:MercolEdù
ATTACH;FMTTYPE=image/jpeg:https://neunoi.it/wp-content/uploads/2026/01/MercolEdu-AI-entra-in-classe.jpg
END:VEVENT
BEGIN:VEVENT
DTSTART;TZID=Europe/Paris:20260122T180000
DTEND;TZID=Europe/Paris:20260122T200000
DTSTAMP:20260423T151429
CREATED:20260120T081541Z
LAST-MODIFIED:20260120T082439Z
UID:6982-1769104800-1769112000@neunoi.it
SUMMARY:Casa dolce Kalsa - Un momento di ascolto e confronto sull’abitare nel cuore della città -
DESCRIPTION:🏠 Casa dolce KalsaUn momento di ascolto e confronto sull’abitare nel cuore della città \nAbitare la Kalsa oggi significa vivere un equilibrio fragile e in continua trasformazione. Un quartiere storico\, attraversato da flussi turistici\, nuove economie\, cambiamenti urbani e sociali che incidono profondamente sulla vita quotidiana di chi lo abita\, lo attraversa o lo immagina come casa. \nCasa dolce Kalsa nasce come uno spazio di confronto aperto\, un’occasione per fermarsi ad ascoltare e riflettere insieme su cosa voglia dire abitare un quartiere come la Kalsa oggi. Non solo in termini di case e affitti\, ma di relazioni\, servizi\, identità\, tempi di vita e diritto alla città. \n📽 In apertura verrà presentato lo short film su Orbita\, alla presenza del regista Dario Leani\, come spunto visivo e narrativo per entrare nel tema dell’abitare e delle trasformazioni urbane. \n📅 22 gennaio🕕 ore 18.00📍 Orbita – via Alloro 95 \nA partire da una domanda semplice ma fondamentale —👉 cosa significa abitare oggi un quartiere storico e turistico? —affronteremo insieme alcuni nodi centrali che attraversano la vita della Kalsa: \n• 🏘 Diritto all’abitare e abitare sociale• 🛒 Servizi di prossimità e vita quotidiana• 🌙 Convivenza tra residenti\, movida e ritmi urbani• 🌱 Identità\, memoria e trasformazione del quartiere \n🗣 La parola alla comunitàL’incontro si svolgerà con il metodo Fishbowl\, una modalità di confronto orizzontale e partecipata: non ci saranno relatori né interventi programmati\, ma uno spazio aperto in cui chiunque potrà prendere parola\, ascoltare\, entrare e uscire dalla discussione\, condividendo esperienze\, punti di vista e domande. \nCasa dolce Kalsa non cerca soluzioni preconfezionate\, ma vuole costruire una mappa collettiva dei bisogni\, delle criticità e delle possibilità di abitare il quartiere oggi\, partendo dalle voci di chi lo vive ogni giorno. \n✨ La tua esperienza conta.Che tu sia residente\, lavoratore\, studente o semplice abitante temporaneo\, il tuo punto di vista è parte del racconto e del futuro della Kalsa. \nEvento promosso da neu[nòi] per Orbita – Casa della Partecipazione. \nTi aspettiamo.
URL:https://neunoi.it/event/casa-dolce-kalsa-un-momento-di-ascolto-e-confronto-sullabitare-nel-cuore-della-citta/
LOCATION:Orbita – Casa della Partecipazione Kalsa\, via Alloro 95\, Palermo\, Italy
CATEGORIES:Incontri
ATTACH;FMTTYPE=image/jpeg:https://neunoi.it/wp-content/uploads/2026/01/Evento_Casa-Dolce-Kalsa.jpg
END:VEVENT
BEGIN:VEVENT
DTSTART;TZID=Europe/Paris:20260129T180000
DTEND;TZID=Europe/Paris:20260129T200000
DTSTAMP:20260423T151429
CREATED:20260120T082857Z
LAST-MODIFIED:20260120T082857Z
UID:6985-1769709600-1769716800@neunoi.it
SUMMARY:La città delle donne – Kalsa Edition
DESCRIPTION:✨ La città delle donne – Kalsa Edition ✨Ridisegnare lo spazio urbano partendo dai desideri e dai bisogni di chi lo vive \n📍 29 gennaio | ore 18:00📍 ORBITA \nA chi appartiene davvero la città?Le nostre strade\, le piazze\, i servizi e i tempi urbani sono spesso pensati secondo modelli che non tengono conto della complessità delle vite che li attraversano. Donne\, bambine e bambini\, persone anziane\, caregiver e soggettività diverse sperimentano quotidianamente una città che non sempre risponde ai loro bisogni di cura\, sicurezza\, accessibilità e partecipazione. \nCon La città delle donne – Kalsa Edition\, Orbita propone un momento di ascolto e confronto collettivo per ripensare lo spazio urbano a partire dal quartiere Kalsa. Un incontro partecipativo che mette al centro lo sguardo delle donne come chiave per immaginare una città più giusta\, accogliente e vivibile per tuttə. \nPerché una città che funziona per le donne è una città che funziona meglio per tutte e tutti: dalle bambine e dai bambini alle persone anziane\, da chi lavora a chi si prende cura degli altri\, da chi vive il quartiere ogni giorno a chi lo attraversa. \n💬 Di cosa parleremo?Partendo dalle esperienze quotidiane di chi abita la Kalsa\, affronteremo insieme alcuni temi fondamentali: \n• La città dei tempi e della curaCome si conciliano lavoro\, vita privata e spostamenti in un quartiere storico? Quali servizi e pratiche possono rafforzare un welfare di prossimità che risponda ai bisogni reali delle persone? \n• Sicurezza e percezione dello spazioOltre l’illuminazione e il controllo\, cosa rende uno spazio davvero sicuro? Come possiamo riappropriarci di piazze\, strade e vicoli\, sentendoli come luoghi familiari\, vissuti e condivisi? \n• Connessioni e partecipazioneIn che modo la Kalsa può diventare un laboratorio di cittadinanza attiva? Quale ruolo possono avere le donne come protagoniste dei processi di trasformazione urbana e sociale del quartiere? \n🌀 Il metodo: l’ascolto al centroL’incontro si svolgerà con il metodo Fishbowl\, una modalità di confronto aperta e orizzontale che favorisce la partecipazione di tuttə. Non una lezione frontale\, ma uno spazio di dialogo in cui far emergere esperienze\, bisogni\, desideri e proposte concrete. \n✨ La tua voce è importante.Che tu viva\, lavori o attraversi la Kalsa\, questo è uno spazio per immaginare insieme una città più attenta\, inclusiva e capace di prendersi cura delle persone che la abitano. \nEvento promosso da neu[nòi] per Orbita – Casa della Partecipazione. \nTi aspettiamo.
URL:https://neunoi.it/event/la-citta-delle-donne-kalsa-edition/
LOCATION:Orbita – Casa della Partecipazione Kalsa\, via Alloro 95\, Palermo\, Italy
ATTACH;FMTTYPE=image/png:https://neunoi.it/wp-content/uploads/2026/01/Evento-La-citta-delle-donne.png
END:VEVENT
BEGIN:VEVENT
DTSTART;TZID=Europe/Paris:20260130T184500
DTEND;TZID=Europe/Paris:20260130T203000
DTSTAMP:20260423T151429
CREATED:20260126T135436Z
LAST-MODIFIED:20260126T135530Z
UID:6991-1769798700-1769805000@neunoi.it
SUMMARY:Book Club
DESCRIPTION:«Nel corso della mia infanzia e adolescenza mi proponevo sempre di scrivere un libro che raccontasse delle persone che vivevano\, allora\, intorno a me. Questo è\, in parte\, quel libro: ma solo in parte\, perché la memoria è labile\, e perché i libri tratti dalla realtà non sono spesso che esili barlumi e schegge di quanto abbiamo visto e udito». \nCon queste parole si apre Lessico famigliare di Natalia Ginzburg\, il romanzo che segna il ritorno del nostro amato book club dopo la pausa invernale.Vi aspettiamo venerdì 30 gennaio alle 18:45 presso Orbita – Casa della partecipazione (via Alloro 95) per un nuovo appuntamento di lettura e confronto\, dedicato a uno dei grandi classici della letteratura italiana del secondo dopoguerra\, capace di intrecciare memoria privata e storia collettiva con una voce intima e inconfondibile. \n📖 Lessico famigliare\, Natalia Ginzburg – Einaudi👉 https://www.einaudi.it/catalogo-libri/narrativa-italiana/narrativa-italiana-del-novecento/lessico-famigliare-natalia-ginzburg-9788806219291/ \nBonus track: per chi preferisce l’ascolto\, il romanzo è disponibile gratuitamente in versione audiolibro su Rai Play Sound\, letto dalla straordinaria Anna Bonaiuto. \nBuona lettura e buon anno (di letture)! ✨
URL:https://neunoi.it/event/book-club/
LOCATION:Orbita – Casa della Partecipazione Kalsa\, via Alloro 95\, Palermo\, Italy
CATEGORIES:Book Club
ATTACH;FMTTYPE=image/jpeg:https://neunoi.it/wp-content/uploads/2026/01/Lessico-famigliare.jpg
END:VEVENT
END:VCALENDAR