BEGIN:VCALENDAR
VERSION:2.0
PRODID:-//neu [nòi] - spazio al lavoro | Il coworking nel cuore di Palermo - ECPv6.15.20//NONSGML v1.0//EN
CALSCALE:GREGORIAN
METHOD:PUBLISH
X-WR-CALNAME:neu [nòi] - spazio al lavoro | Il coworking nel cuore di Palermo
X-ORIGINAL-URL:https://neunoi.it
X-WR-CALDESC:Eventi per neu [nòi] - spazio al lavoro | Il coworking nel cuore di Palermo
REFRESH-INTERVAL;VALUE=DURATION:PT1H
X-Robots-Tag:noindex
X-PUBLISHED-TTL:PT1H
BEGIN:VTIMEZONE
TZID:Europe/Paris
BEGIN:DAYLIGHT
TZOFFSETFROM:+0100
TZOFFSETTO:+0200
TZNAME:CEST
DTSTART:20240331T010000
END:DAYLIGHT
BEGIN:STANDARD
TZOFFSETFROM:+0200
TZOFFSETTO:+0100
TZNAME:CET
DTSTART:20241027T010000
END:STANDARD
BEGIN:DAYLIGHT
TZOFFSETFROM:+0100
TZOFFSETTO:+0200
TZNAME:CEST
DTSTART:20250330T010000
END:DAYLIGHT
BEGIN:STANDARD
TZOFFSETFROM:+0200
TZOFFSETTO:+0100
TZNAME:CET
DTSTART:20251026T010000
END:STANDARD
BEGIN:DAYLIGHT
TZOFFSETFROM:+0100
TZOFFSETTO:+0200
TZNAME:CEST
DTSTART:20260329T010000
END:DAYLIGHT
BEGIN:STANDARD
TZOFFSETFROM:+0200
TZOFFSETTO:+0100
TZNAME:CET
DTSTART:20261025T010000
END:STANDARD
END:VTIMEZONE
BEGIN:VEVENT
DTSTART;TZID=Europe/Paris:20251107T184500
DTEND;TZID=Europe/Paris:20251107T203000
DTSTAMP:20260423T182711
CREATED:20251029T084721Z
LAST-MODIFIED:20251029T090136Z
UID:6917-1762541100-1762547400@neunoi.it
SUMMARY:Book club - Codice 612. Chi ha ucciso il piccolo principe?
DESCRIPTION:“Un mistero nascosto tra le stelle\, un segreto che riscrive la favola più amata.” \n📖 Venerdì 7 novembre alle 18:45 torna il nostro Book Club con Codice 612. Chi ha ucciso il piccolo Principe? di Michel Bussi (Edizioni e/o). \nUn romanzo affascinante che mescola indagine e poesia\, interrogandosi sul destino dell’autore del Piccolo Principe e sul significato profondo delle sue parole. Michel Bussi ci accompagna in un viaggio tra memoria\, immaginazione e mistero\, dove la leggenda di Saint-Exupéry si intreccia con la riflessione sul potere delle storie. \nUn incontro per chi ama i libri che fanno domande\, per chi crede che dietro ogni racconto si nasconda una verità da scoprire. Ci vediamo in cerchio\, come sempre\, per leggere insieme\, condividere e riflettere. \n📍 Orbita – Casa della Partecipazione\, via Alloro 95\, Palermo🗓️ Venerdì 7 novembre 2025🕰️ ore 18:45 \n\nBook Club neu [nòi] – PalermoOgni mese un libro\, un cerchio di lettura e un viaggio collettivo attraverso le pagine.\nper maggiori informazioni sul book club vai su https://neunoi.it/book-club-palermo-neu-noi/
URL:https://neunoi.it/event/book-club-codice-612-chi-ha-ucciso-il-piccolo-principe/
LOCATION:Orbita – Casa della Partecipazione Kalsa\, via Alloro 95\, Palermo\, Italy
CATEGORIES:Book Club
ATTACH;FMTTYPE=image/jpeg:https://neunoi.it/wp-content/uploads/2025/10/Codice-612.jpg
END:VEVENT
BEGIN:VEVENT
DTSTART;TZID=Europe/Paris:20251112T150000
DTEND;TZID=Europe/Paris:20251112T190000
DTSTAMP:20260423T182711
CREATED:20251029T150435Z
LAST-MODIFIED:20251029T164334Z
UID:6923-1762959600-1762974000@neunoi.it
SUMMARY:Segnali Urbani da Ricordare: Tecnologie Ribelli per Far Parlare le Strade
DESCRIPTION:Un laboratorio creativo e tecnologico per esplorare e reinventare Palermo.\nData: 12 Novembre \nLuogo: Orbita – Casa della Partecipazione Kalsa – via Alloro 95\, Palermo \nCosto: Partecipazione gratuita  \nIscrizione: Obbligatoria tramite il modulo sottostante. \nCosa succede se un cartello stradale diventa un messaggio da scoprire\, un invito a esplorare o un piccolo racconto urbano? \nCamminare per la città non sarà più lo stesso! Spesso\, il fascino della scoperta si spegne in fretta\, lasciando spazio solo a cartelli e messaggi legati al consumo. Con il laboratorio “Segnali Urbani da Ricordare”\, useremo la creatività e la tecnologia per accendere un nuovo legame poetico tra la cittadinanza e lo spazio urbano. \nInsieme costruiremo infografiche interattive da installare in città\, mescolando disegno\, stampa 3D\, stampa laser e piccoli dispositivi programmabili. \nCosa Imparerai nel Laboratorio?\nIn poche ore\, impareremo a combinare creatività\, design e tecnologia per dare vita a innovative cacce al tesoro. L’obiettivo? Creare una segnaletica poetica e ribelle\, capace di sorprendere chi cammina e di trasformare l’esplorazione urbana in un gioco collettivo. \nIl laboratorio è pensato per essere modulare e adatto a diverse fasce d’età\, permettendo a ogni partecipante di contribuire al meglio: \n\nGruppo 8+ anni (Bambine/i): Ci dedicheremo alla progettazione e alla grafica dei segnali\, sperimentando l’uso di base della stampa 3D e della stampa laser per dare forma fisica alle idee.\nGruppo fino a 24 anni (Ragazze/i): Entreremo nel vivo della programmazione con i microcontrollori (Arduino)\, imparando a creare interazioni digitali e fisiche e a rendere accessibile l’infografica tramite QR Code e pagine web dedicate.\n\nNon servono esperienze precedenti! La nostra ambizione è diffondere un senso di cittadinanza attiva attraverso l’uso aggregativo ed educativo della tecnologia. \nChi può partecipare?\nIl corso si rivolge principalmente a persone di età compresa tra gli 8 e i 24 anni. \nConsigliamo vivamente di coinvolgere anche genitori\, parenti e accompagnatrici/accompagnatori! Il laboratorio è un’ottima opportunità per creare e imparare insieme. \nIscrizione e Rinfresco\nLa partecipazione al laboratorio è gratuita ma l’iscrizione è obbligatoria per organizzare al meglio le attività. \nAl termine dell’evento\, verrà offerto un rinfresco a tutte le persone partecipanti\, per concludere in bellezza la giornata. \nNon perdere l’occasione di diventare protagonista della tua città! \nIscriviti subito compilando il modulo: [Link al Formulario di Iscrizione]  \nHai domande? Scrivici a: formazione@neunoi.it
URL:https://neunoi.it/event/segnali-urbani-da-ricordare/
LOCATION:Orbita – Casa della Partecipazione Kalsa\, via Alloro 95\, Palermo\, Italy
CATEGORIES:Meet and Code
ATTACH;FMTTYPE=image/jpeg:https://neunoi.it/wp-content/uploads/2025/10/Locandina-quadrata-MeetAndCode-Nov2025.jpg
END:VEVENT
BEGIN:VEVENT
DTSTART;TZID=Europe/Paris:20251129T170000
DTEND;TZID=Europe/Paris:20251129T200000
DTSTAMP:20260423T182711
CREATED:20251120T094509Z
LAST-MODIFIED:20251120T101937Z
UID:6935-1764435600-1764446400@neunoi.it
SUMMARY:"Noi"  arte performativa a cura di Meltem Yakın Üldes
DESCRIPTION:Sabato 29 novembre 2025\, ore 17:00\npresso neu[nòi]\, via Alloro 64 – Palermo\nL’Arte di Crescere in collaborazione con Cesvop Palermo e CIRPE – Scuola Formazione Sicilia presenta: \n\n\n\n *Noi* arte performativa a cura di Meltem Yakın Üldes.\nL’arte di Meltem Üldes\, si è sempre concentrata sulle questioni relative all’identità femminile e commemora in questo progetto milioni di donne trascurate\, disidentificate e silenziate dipingendo figure femminili pensierose\, arrabbiate e addolorate che contrastano con l’abito da sposa\, simbolo di amore\, purezza\, fedeltà e nuova vita.\n\n\n\n Meltem Üldes ritiene che il fatto che le donne di tutto il mondo continuino a subire violenze sistematiche\, abbandono e sfruttamento economico/cognitivo dopo il matrimonio sia una situazione che deve essere affrontata\, e vuole attirare l’attenzione su queste realtà che si celano dietro un simbolo così importante e bello come l’abito da sposa. Nella performance\, in cui Ivana Balistreri\, mamma alla pari e volontaria dell’associazione L’Arte di Crescere\, renderà vivo l’abito\, l’artista desidera avviare un dialogo sugli ideali abbracciati dalla società e sui ruoli imposti alle donne.\n\n\n\n\n\n*#AbitiRiBelli* è un progetto di comunità che trasforma abiti da sposa in arte\, solidarietà e sport per finanziare la prima area fitness pubblica e gratuita nel quartiere Sperone di Palermo.\n\nVi Aspettiamo!
URL:https://neunoi.it/event/noi-arte-performativa-a-cura-di-meltem-yakin-uldes/
LOCATION:neu [nòi]\, via Alloro 64\, Palermo\, Italy
CATEGORIES:Mostre
ATTACH;FMTTYPE=image/jpeg:https://neunoi.it/wp-content/uploads/2025/11/Locandina-quadrata-22noi22-Abiti-Ribelli-29-nov.jpg
END:VEVENT
END:VCALENDAR