BEGIN:VCALENDAR
VERSION:2.0
PRODID:-//neu [nòi] - spazio al lavoro | Il coworking nel cuore di Palermo - ECPv6.15.20//NONSGML v1.0//EN
CALSCALE:GREGORIAN
METHOD:PUBLISH
X-WR-CALNAME:neu [nòi] - spazio al lavoro | Il coworking nel cuore di Palermo
X-ORIGINAL-URL:https://neunoi.it
X-WR-CALDESC:Eventi per neu [nòi] - spazio al lavoro | Il coworking nel cuore di Palermo
REFRESH-INTERVAL;VALUE=DURATION:PT1H
X-Robots-Tag:noindex
X-PUBLISHED-TTL:PT1H
BEGIN:VTIMEZONE
TZID:Europe/Paris
BEGIN:DAYLIGHT
TZOFFSETFROM:+0100
TZOFFSETTO:+0200
TZNAME:CEST
DTSTART:20240331T010000
END:DAYLIGHT
BEGIN:STANDARD
TZOFFSETFROM:+0200
TZOFFSETTO:+0100
TZNAME:CET
DTSTART:20241027T010000
END:STANDARD
BEGIN:DAYLIGHT
TZOFFSETFROM:+0100
TZOFFSETTO:+0200
TZNAME:CEST
DTSTART:20250330T010000
END:DAYLIGHT
BEGIN:STANDARD
TZOFFSETFROM:+0200
TZOFFSETTO:+0100
TZNAME:CET
DTSTART:20251026T010000
END:STANDARD
BEGIN:DAYLIGHT
TZOFFSETFROM:+0100
TZOFFSETTO:+0200
TZNAME:CEST
DTSTART:20260329T010000
END:DAYLIGHT
BEGIN:STANDARD
TZOFFSETFROM:+0200
TZOFFSETTO:+0100
TZNAME:CET
DTSTART:20261025T010000
END:STANDARD
END:VTIMEZONE
BEGIN:VEVENT
DTSTART;TZID=Europe/Paris:20251003T163000
DTEND;TZID=Europe/Paris:20251003T200000
DTSTAMP:20260423T211538
CREATED:20250924T144736Z
LAST-MODIFIED:20250924T150807Z
UID:6888-1759509000-1759521600@neunoi.it
SUMMARY:Spazio Comune
DESCRIPTION:✨ Abbiamo uno Spazio Comune\, un programma di attività e un nome che ci gira in testa da un po’… ed è arrivato il momento di condividerlo!!! 😃 \nIl 3 ottobre vieni e compi il primo passo per entrare a far parte della comunità attiva della nuova Casa della Partecipazione \n🔹 Sarà un pomeriggio per:\n ✨ scoprire il nome e il logo che abbiamo scelto per questo spazio in movimento\n 🚀 lanciare il calendario delle prime attività che animeranno la Casa per tutto ottobre con il progetto New Inherit\n 🤝 dialogare tra cittadini e istituzioni sulla bozza del regolamento d’uso per definire insieme la rotta di questo bene comune \n📍 Appuntamento: 3 ottobre\, dalle 16:30 in via Alloro 95 – Palermo\n 🎶 La serata si conclude con un aperitivo! \n🌱 Dopo anni di abbandono\, questo luogo torna a vivere nel cuore della Kalsa: vieni a scoprire come la partecipazione diventa una forza di attrazione\, capace di creare nuove connessioni! \nℹ️ Evento e attività realizzati nell’ambito del progetto New Inherit\, finanziato dall’Unione Europea – Creative Europe (id progetto 101131362). \n**PROGRAMMA**Ore 16:30 – Registrazione e accoglienza\n\nOre 17:00 – Visita della Casa e delle attività.\nEsplora\, interagisci\, partecipa. A cura del progetto New Inherit.\n\nOre 18.00 – Sveliamo il nomeAlla scoperta del nome e logo del progetto.\n\nOre 18.10 – I firmatari del PattoInterventi dei rappresentanti istituzionali e delle associazioni firmatarie del patto di collaborazione.\n\nOre 18.45 – Modello di gestionePresentazione della bozza di regolamento d’uso e del calendario delle attività implementate nel progetto New Inherit.\n\nOre 19:15 – Aperitivo e musica\n  \n 
URL:https://neunoi.it/event/spazio-comune/
LOCATION:Casa della Partecipazione\, via Alloro 95\, Palermo\, 90133\, Italy
CATEGORIES:Incontri
ATTACH;FMTTYPE=image/png:https://neunoi.it/wp-content/uploads/2025/09/Copertina-quadrata-Spazio-comune-3-Ott-.png
END:VEVENT
BEGIN:VEVENT
DTSTART;TZID=Europe/Paris:20251005T184500
DTEND;TZID=Europe/Paris:20251005T203000
DTSTAMP:20260423T211538
CREATED:20250906T073851Z
LAST-MODIFIED:20250917T161026Z
UID:6841-1759689900-1759696200@neunoi.it
SUMMARY:Book Club - L'ottava vita per Brilka
DESCRIPTION:🟣“Una ricetta segreta\, sette donne\, un secolo di storia.” \n📖 Domenica 25 ottobre alle 18:30 torna il nostro Book Club con L’ottava vita (per Brilka) di Nino Haratischwili (Marsilio). \nUn romanzo monumentale che attraversa il Novecento partendo dalla Georgia\, seguendo le vicende di una famiglia segnata da passioni\, rivoluzioni\, guerre e sogni mai sopiti. Un intreccio di destini al femminile che ci porta a riflettere sulla memoria\, sull’identità e sul potere della narrazione come eredità. \nUn viaggio epico e intimo al tempo stesso\, da vivere insieme in cerchio\, pagina dopo pagina. Buona lettura! \nQuesta volta ci troveremo nella neo-aperta Casa della Partecipazione\, in via Alloro 95. \n🗓️ 05 ottobre 2025🕰️ ore 18:45📍 via Alloro 95
URL:https://neunoi.it/event/book-club-lottava-vita-per-brilka-palermo/
LOCATION:Casa della Partecipazione\, via Alloro 95\, Palermo\, 90133\, Italy
CATEGORIES:Book Club
ATTACH;FMTTYPE=image/jpeg:https://neunoi.it/wp-content/uploads/2025/09/Lottava-vita2.jpg
END:VEVENT
BEGIN:VEVENT
DTSTART;TZID=Europe/Paris:20251008T190000
DTEND;TZID=Europe/Paris:20251008T210000
DTSTAMP:20260423T211538
CREATED:20251005T081243Z
LAST-MODIFIED:20251005T081243Z
UID:6895-1759950000-1759957200@neunoi.it
SUMMARY:Voci per l’acqua pubblica
DESCRIPTION:Mercoledì 8 ottobre 2025 – ore 19:00\n📍 Orbita – Casa della Partecipazione Kalsa\, via Alloro 95\, Palermo\nIngresso gratuito – segue rinfresco e dibattito \nCome si racconta un bene comune?\nCome si parla di acqua\, senza cadere nella retorica o nei dati che scorrono veloci e si perdono? \nNoi ci proviamo con l’arte.\nPerché l’arte è anche questo: uno strumento potente per fare informazione\, creare coinvolgimento e generare consapevolezza.\nPerché l’arte arriva dove le parole istituzionali non arrivano. Muove\, smuove\, fa pensare. \nAll’interno del progetto H2Oh! – La verità sull’acqua pubblica a Palermo\, vi invitiamo a una serata speciale di teatro\, cinema e confronto collettivo sul tema dell’acqua pubblica in Sicilia. \n🎭 TALÌA  – ore 19:00\nUna performance teatrale interattiva a cura del gruppo di Teatro dell’Oppresso condotto da Preziosa Salatino (Teatro Atlante)\, che porterà le persone presenti a scoprire – in modo coinvolgente e ironico – molte cose inaspettate sull’acqua pubblica potabile.\nUn momento per mettersi in gioco\, riflettere e rivedere da vicino questioni che spesso diamo per scontate.\n⏱ Durata: 30 minuti – segue dibattito \n🎬 SICCILIA – in viaggio verso l’acqua del futuro – ore 20:00\nUn docufilm prodotto da Transistor e Rinascimento Green\, diretto da Lorenzo Ci\, scritto da Alessio Petronelli su soggetto di Stephanie Brancaforte e Manuela Leone. \nUn viaggio attraverso la Sicilia\, tra interviste e testimonianze di climatologi\, esperti\, parlamentari regionali e sindaci\, permacultori\, artisti\, agricoltori e tante persone impegnate ogni giorno sul tema dell’acqua.\nIl risultato è un racconto corale che mostra una terra ferita da siccità e alluvioni\, ma anche attraversata da esempi concreti di coraggio\, innovazione e speranza.\n⏱ Durata: 20 minuti – segue dibattito \n\n🎤 Entrambi i momenti saranno seguiti da un confronto aperto con tutte le persone presenti\, per condividere riflessioni\, domande e possibili azioni sul tema dell’acqua pubblica in Sicilia. \n🥤 Durante la serata sarà offerto un rinfresco. \n\nH2Oh! – La verità sull’acqua pubblica a Palermo è un progetto finanziato da Fondazione PuntoSud nell’ambito di NoPlanetB e cofinanziato dall’Unione Europea. \nScopri il progetto su 👉 h2oh.neunoi.it \n 
URL:https://neunoi.it/event/voci-per-lacqua-pubblica/
LOCATION:Orbita – Casa della Partecipazione Kalsa\, via Alloro 95\, Palermo\, Italy
CATEGORIES:H2Oh!
ATTACH;FMTTYPE=image/jpeg:https://neunoi.it/wp-content/uploads/2025/10/Evento-h2oh-Talia-Casa-della-Partecipazione-600-x-600-px.jpg
END:VEVENT
BEGIN:VEVENT
DTSTART;TZID=Europe/Paris:20251014T160000
DTEND;TZID=Europe/Paris:20251014T200000
DTSTAMP:20260423T211538
CREATED:20251009T094631Z
LAST-MODIFIED:20251010T094010Z
UID:6903-1760457600-1760472000@neunoi.it
SUMMARY:L'ACQUA PUBBLICA È SICURA? scopriamolo insieme
DESCRIPTION:Sei tra il 40% degli italiani che non si fida dell’acqua del rubinetto? A Palermo l’acqua pubblica è sicura\, ma la sfiducia è ancora diffusa. \nneu [nòi] – spazio al lavoro APS\, promotore del progetto H2Oh! La verità sull’acqua pubblica a Palermo\, ti invita al convegno finale per sfatare i pregiudizi e presentare i dati scientifici. \nVieni a scoprire se l’acqua del rubinetto è davvero la scelta più sostenibile\, economica e salutare per te e per la città. \n🗓️ QUANDO: 14 ottobre\, ore 16:00\n📍 DOVE: Ex-Noviziato dei Crociferi\, via Torremuzza 20\, Palermo \nIl progetto H2Oh!\, finanziato da Fondazione Punto.Sud e \, nasce per affrontare il paradosso per cui l’acqua pubblica italiana\, pur essendo conforme ai parametri di legge nel 99\,1% dei casi\, è spesso evitata per diffidenza. Questa sfiducia alimenta un consumo smodato di bottiglie di plastica\, che solo a Palermo raggiungono volumi impressionanti (l’equivalente di un campo da calcio al giorno). \nDopo mesi di indagini\, analisi chimiche e batteriologiche certificate sulle fontanelle pubbliche\, e attività di interazione con i cittadini (come i test comparativi in cieco)\, è tempo di consegnare alla cittadinanza e alle istituzioni i risultati definitivi del lavoro. \nPartecipa al convegno per scoprire: \n\nLa reale qualità dell’acqua del rubinetto a Palermo\, basata su evidenze scientifiche.\nQual è l’impatto sulla salute del consumo di acqua pubblica.\nLa verità sui falsi miti più diffusi\, come la correlazione tra calcare e calcoli renali.\nCome il sapore di cloro nell’acqua può essere facilmente eliminato.\nL’impatto ambientale del consumo di acqua in bottiglia.\n\nRelatori e Interventi \nL’evento vedrà un confronto multidisciplinare di esperti e figure chiave\, nel seguente ordine: \n\nMichelangelo Pavia – Presidente di neu [nòi] – spazio al lavoro APS e Responsabile del progetto.\nInterventi Istituzionali – Rappresentanti della Pubblica Amministrazione.\nDott.ssa Eleonora Puddu – Responsabile della Fondazione Punto.Sud.\nDott. Alessio Terenzi – Docente di chimica dell’Università degli Studi di Palermo.\nDott.ssa Caterina Carollo – Nefrologa – Cattedra e scuola di specializzazione in Nefrologia – Università degli studi di Palermo.\n\nneu [nòi] ribadisce che la fiducia nell’acqua pubblica passa per la trasparenza e l’ascolto. Vi invitiamo a partecipare per riflettere insieme su: Cosa ci serve per fidarci dell’acqua pubblica? \nL’evento è parte del progetto H2Oh! – La verità sull’acqua pubblica a Palermo\, finanziato da PuntoSud nell’ambito di NoPlanetB\, e cofinanziato da EU International Partnerships\, EUDEARProgramme e Fondazione Cariplo. \nL’evento è libero e gratuito. \n🔗 Maggiori info sul progetto e sulle attività svolte: www.h2oh.neunoi.it.
URL:https://neunoi.it/event/lacqua-pubblica-e-sicura-scopriamolo-insieme/
LOCATION:Ex-Noviziato dei Crociferi\, via Torremuzza 20\, Palermo\, Italy
CATEGORIES:H2Oh!
ATTACH;FMTTYPE=image/jpeg:https://neunoi.it/wp-content/uploads/2025/10/locandina-web-Convegno-14-ott-H2hOh.jpg
END:VEVENT
END:VCALENDAR