BEGIN:VCALENDAR
VERSION:2.0
PRODID:-//neu [nòi] - spazio al lavoro | Il coworking nel cuore di Palermo - ECPv6.15.20//NONSGML v1.0//EN
CALSCALE:GREGORIAN
METHOD:PUBLISH
X-ORIGINAL-URL:https://neunoi.it
X-WR-CALDESC:Eventi per neu [nòi] - spazio al lavoro | Il coworking nel cuore di Palermo
REFRESH-INTERVAL;VALUE=DURATION:PT1H
X-Robots-Tag:noindex
X-PUBLISHED-TTL:PT1H
BEGIN:VTIMEZONE
TZID:Europe/Paris
BEGIN:DAYLIGHT
TZOFFSETFROM:+0100
TZOFFSETTO:+0200
TZNAME:CEST
DTSTART:20250330T010000
END:DAYLIGHT
BEGIN:STANDARD
TZOFFSETFROM:+0200
TZOFFSETTO:+0100
TZNAME:CET
DTSTART:20251026T010000
END:STANDARD
BEGIN:DAYLIGHT
TZOFFSETFROM:+0100
TZOFFSETTO:+0200
TZNAME:CEST
DTSTART:20260329T010000
END:DAYLIGHT
BEGIN:STANDARD
TZOFFSETFROM:+0200
TZOFFSETTO:+0100
TZNAME:CET
DTSTART:20261025T010000
END:STANDARD
BEGIN:DAYLIGHT
TZOFFSETFROM:+0100
TZOFFSETTO:+0200
TZNAME:CEST
DTSTART:20270328T010000
END:DAYLIGHT
BEGIN:STANDARD
TZOFFSETFROM:+0200
TZOFFSETTO:+0100
TZNAME:CET
DTSTART:20271031T010000
END:STANDARD
END:VTIMEZONE
BEGIN:VEVENT
DTSTART;TZID=Europe/Paris:20260522T184500
DTEND;TZID=Europe/Paris:20260522T200000
DTSTAMP:20260422T003821
CREATED:20260421T073335Z
LAST-MODIFIED:20260421T155636Z
UID:7119-1779475500-1779480000@neunoi.it
SUMMARY:Book Club - "Il tempo dei mostri" di Alberto Toscano
DESCRIPTION:Il 22 maggio\, leggeremo e discuteremo insieme “Il tempo dei mostri. Trump e la crisi dell’egemonia americana” di Alberto Toscano\, saggista e teorico critico tra i più lucidi del panorama internazionale. \nDi cosa parla il libro \nIl ritorno di Trump alla presidenza non è un accidente della storia. È il sintomo di qualcosa di più profondo: la crisi dell’egemonia americana\, quell’intreccio di consenso\, cultura e potere economico con cui gli Stati Uniti hanno governato l’ordine mondiale per quasi un secolo. \nToscano scava sotto la superficie dello spettacolo — agenti che rastrellano migranti\, università piegate alla conformità ideologica\, attivisti pro-Palestina minacciati di deportazione — e individua le logiche strutturali che lo rendono possibile: il revanscismo bianco\, le guerre culturali\, l’ascesa della destra di Silicon Valley\, il cesarismo come tratto ricorrente della politica statunitense. Trump non ha creato queste dinamiche: le ha intercettate e amplificate. \nIl paradosso che il libro mette a fuoco è illuminante: Make America Great Again voleva esorcizzare l’idea di un’America in declino\, e non ha fatto che acutizzarla. \n📅 22 maggio 2025\, ore 18:45 \n📍 Orbita – Casa della Partecipazione\, via Alloro 95\, Palermo \nIngresso libero. Aperto a tuttɛ. \nVi Aspettiamo!
URL:https://neunoi.it/event/book-club-il-tempo-dei-mostri-di-alberto-toscano/
LOCATION:Orbita – Casa della Partecipazione Kalsa\, via Alloro 95\, Palermo\, Italy
CATEGORIES:Book Club
ATTACH;FMTTYPE=image/jpeg:https://neunoi.it/wp-content/uploads/2026/04/Il-tempo-dei-mostri.jpg
END:VEVENT
END:VCALENDAR