BEGIN:VCALENDAR
VERSION:2.0
PRODID:-//neu [nòi] - spazio al lavoro | Il coworking nel cuore di Palermo - ECPv6.15.20//NONSGML v1.0//EN
CALSCALE:GREGORIAN
METHOD:PUBLISH
X-WR-CALNAME:neu [nòi] - spazio al lavoro | Il coworking nel cuore di Palermo
X-ORIGINAL-URL:https://neunoi.it
X-WR-CALDESC:Eventi per neu [nòi] - spazio al lavoro | Il coworking nel cuore di Palermo
REFRESH-INTERVAL;VALUE=DURATION:PT1H
X-Robots-Tag:noindex
X-PUBLISHED-TTL:PT1H
BEGIN:VTIMEZONE
TZID:Europe/Paris
BEGIN:DAYLIGHT
TZOFFSETFROM:+0100
TZOFFSETTO:+0200
TZNAME:CEST
DTSTART:20250330T010000
END:DAYLIGHT
BEGIN:STANDARD
TZOFFSETFROM:+0200
TZOFFSETTO:+0100
TZNAME:CET
DTSTART:20251026T010000
END:STANDARD
BEGIN:DAYLIGHT
TZOFFSETFROM:+0100
TZOFFSETTO:+0200
TZNAME:CEST
DTSTART:20260329T010000
END:DAYLIGHT
BEGIN:STANDARD
TZOFFSETFROM:+0200
TZOFFSETTO:+0100
TZNAME:CET
DTSTART:20261025T010000
END:STANDARD
BEGIN:DAYLIGHT
TZOFFSETFROM:+0100
TZOFFSETTO:+0200
TZNAME:CEST
DTSTART:20270328T010000
END:DAYLIGHT
BEGIN:STANDARD
TZOFFSETFROM:+0200
TZOFFSETTO:+0100
TZNAME:CET
DTSTART:20271031T010000
END:STANDARD
END:VTIMEZONE
BEGIN:VEVENT
DTSTART;TZID=Europe/Paris:20260421T183000
DTEND;TZID=Europe/Paris:20260421T200000
DTSTAMP:20260421T163918
CREATED:20260421T065929Z
LAST-MODIFIED:20260421T070158Z
UID:7112-1776796200-1776801600@neunoi.it
SUMMARY:Presentazione del libro "UOMO DI STATO" di Francesco Mongiovì
DESCRIPTION:Il 21 aprile\, appuntamento da non perdere a Palermo!\nFrancesco Mongiovì — ex scorta di Giovanni Falcone\, componente della Squadra catturandi e Sovrintendente Capo Coordinatore della Polizia di Stato — presenta il suo libro in un incontro che promette di emozionare e far riflettere. \n📍 neu[nòi] — Via Alloro\, 64\, Palermo\n🕡 Ore 18:30\nIntroduzione di Beppe Castellucci\nModera Emilio Pursumal\, Docente di Storytelling \nI proventi della vendita del libro saranno devoluti all’ASLTI — Associazione Siciliana Leucemie e Tumori dell’Infanzia\, che opera presso il Reparto di Oncoematologia Pediatrica dell’Ospedale Civico di Palermo.
URL:https://neunoi.it/event/presentazione-del-libro-uomo-di-stato/
LOCATION:neu [nòi]\, via Alloro 64\, Palermo\, Italy
CATEGORIES:Presentazioni libro
ATTACH;FMTTYPE=image/jpeg:https://neunoi.it/wp-content/uploads/2026/04/IMG-20260420-WA0003.jpg
END:VEVENT
END:VCALENDAR