BEGIN:VCALENDAR
VERSION:2.0
PRODID:-//neu [nòi] - spazio al lavoro | Il coworking nel cuore di Palermo - ECPv6.15.20//NONSGML v1.0//EN
CALSCALE:GREGORIAN
METHOD:PUBLISH
X-ORIGINAL-URL:https://neunoi.it
X-WR-CALDESC:Eventi per neu [nòi] - spazio al lavoro | Il coworking nel cuore di Palermo
REFRESH-INTERVAL;VALUE=DURATION:PT1H
X-Robots-Tag:noindex
X-PUBLISHED-TTL:PT1H
BEGIN:VTIMEZONE
TZID:Europe/Paris
BEGIN:DAYLIGHT
TZOFFSETFROM:+0100
TZOFFSETTO:+0200
TZNAME:CEST
DTSTART:20230326T010000
END:DAYLIGHT
BEGIN:STANDARD
TZOFFSETFROM:+0200
TZOFFSETTO:+0100
TZNAME:CET
DTSTART:20231029T010000
END:STANDARD
BEGIN:DAYLIGHT
TZOFFSETFROM:+0100
TZOFFSETTO:+0200
TZNAME:CEST
DTSTART:20240331T010000
END:DAYLIGHT
BEGIN:STANDARD
TZOFFSETFROM:+0200
TZOFFSETTO:+0100
TZNAME:CET
DTSTART:20241027T010000
END:STANDARD
BEGIN:DAYLIGHT
TZOFFSETFROM:+0100
TZOFFSETTO:+0200
TZNAME:CEST
DTSTART:20250330T010000
END:DAYLIGHT
BEGIN:STANDARD
TZOFFSETFROM:+0200
TZOFFSETTO:+0100
TZNAME:CET
DTSTART:20251026T010000
END:STANDARD
END:VTIMEZONE
BEGIN:VEVENT
DTSTART;TZID=Europe/Paris:20241106T184500
DTEND;TZID=Europe/Paris:20241106T203000
DTSTAMP:20260422T123538
CREATED:20241022T152858Z
LAST-MODIFIED:20241102T113841Z
UID:6180-1730918700-1730925000@neunoi.it
SUMMARY:Shiatsu: un percorso di consapevolezza
DESCRIPTION:Shiatsu: un percorso di consapevolezza \nImparare a “Capire” “Sentire” per vivere attraverso il corpo. \nPerché ci piace il canto degli uccellini? Cosa succede se immaginiamo di mangiare il nostro cibo preferito o se fantastichiamo su un ipotetico partner sessuale? Come fa l’arredamento a influenzare la nostra produttività o stato emotivo? Perché abbiamo risvegli frequenti in piena notte? Come reagisce il corpo quando non sopportiamo più il nostro lavoro? E quando attraversiamo un lutto?\nLa risposta ad ognuna di queste e a tante altre domande può darcela il nostro corpo\, se impariamo a “Capire” “Sentire” come funziona e come reagisce a qualsiasi evento\, significativo o banale\, che si verifica nelle nostre vite.
URL:https://neunoi.it/event/shiatsu-un-percorso-di-consapevolezza/
LOCATION:neu [nòi]\, via Alloro 64\, Palermo\, Italy
CATEGORIES:MercolEdù
ATTACH;FMTTYPE=image/jpeg:https://neunoi.it/wp-content/uploads/2024/10/shiatsu.jpg
END:VEVENT
END:VCALENDAR