BEGIN:VCALENDAR
VERSION:2.0
PRODID:-//neu [nòi] - spazio al lavoro | Il coworking nel cuore di Palermo - ECPv6.15.20//NONSGML v1.0//EN
CALSCALE:GREGORIAN
METHOD:PUBLISH
X-ORIGINAL-URL:https://neunoi.it
X-WR-CALDESC:Eventi per neu [nòi] - spazio al lavoro | Il coworking nel cuore di Palermo
REFRESH-INTERVAL;VALUE=DURATION:PT1H
X-Robots-Tag:noindex
X-PUBLISHED-TTL:PT1H
BEGIN:VTIMEZONE
TZID:Europe/Paris
BEGIN:DAYLIGHT
TZOFFSETFROM:+0100
TZOFFSETTO:+0200
TZNAME:CEST
DTSTART:20230326T010000
END:DAYLIGHT
BEGIN:STANDARD
TZOFFSETFROM:+0200
TZOFFSETTO:+0100
TZNAME:CET
DTSTART:20231029T010000
END:STANDARD
BEGIN:DAYLIGHT
TZOFFSETFROM:+0100
TZOFFSETTO:+0200
TZNAME:CEST
DTSTART:20240331T010000
END:DAYLIGHT
BEGIN:STANDARD
TZOFFSETFROM:+0200
TZOFFSETTO:+0100
TZNAME:CET
DTSTART:20241027T010000
END:STANDARD
BEGIN:DAYLIGHT
TZOFFSETFROM:+0100
TZOFFSETTO:+0200
TZNAME:CEST
DTSTART:20250330T010000
END:DAYLIGHT
BEGIN:STANDARD
TZOFFSETFROM:+0200
TZOFFSETTO:+0100
TZNAME:CET
DTSTART:20251026T010000
END:STANDARD
END:VTIMEZONE
BEGIN:VEVENT
DTSTART;TZID=Europe/Paris:20241108T170000
DTEND;TZID=Europe/Paris:20241108T190000
DTSTAMP:20260421T121221
CREATED:20241104T093547Z
LAST-MODIFIED:20241104T093547Z
UID:6259-1731085200-1731092400@neunoi.it
SUMMARY:La forza (lavoro) delle donne
DESCRIPTION:La forza (lavoro) delle donne è un incontro organizzato nell’ambito del progetto WoW – Working Women\, promosso da neu [nòi]\, 100% Me Stessa e Le Onde ETS e sostenuto grazie ai fondi dell’8×1000 della Chiesa Valdese. WoW nasce con l’obiettivo di favorire l’autodeterminazione femminile e l’empowerment attraverso la riscoperta della propria identità professionale\, incoraggiando le donne a raggiungere l’indipendenza economica e psicologica.\nIn questo appuntamento\, la dott.ssa Giusi Chirco Psicologa\, psicoterapeuta\, esperta di orientamento lavorativo\, la dott.ssa Iliana Ciulla\, psicologa\, operatrice di accoglienza del centro antiviolenza Le Onde ETS\, condivideranno storie di rinascita personale e professionale.\nL’evento è un’occasione per comprendere il valore del lavoro come strumento di autodeterminazione necessario alle donne per riscrivere la propria storia.\nVi aspettiamo per esplorare insieme queste storie di forza e cambiamento!\nL’Associazione “Le Onde” è attiva dal 1992 e nel 1998 si costituisce in ONLUS\, con la mission di produrre azioni volte alla prevenzione e al contrasto del fenomeno della violenza verso le donne\, le bambine e i bambini. Principio fondante dellintervento dell’associazione è l’affermazione di una pratica di relazione tra donne in un contesto di professionalità e attraverso attività volte a prevenire e contrastare un fenomeno che riguarda intimamente i rapporti tra i sessi e le comunità sociali. Ad oggi ETS\, gestisce un centro antiviolenza e due casa rifugio ad indirizzo segreto.
URL:https://neunoi.it/event/la-forza-lavoro-delle-donne/
LOCATION:Spazio Marceau\, Cantieri Culturali alla Zisa\, Padiglione 13/A\, via Paolo Gili\, 4\, Palermo
CATEGORIES:Incontri
ATTACH;FMTTYPE=image/jpeg:https://neunoi.it/wp-content/uploads/2024/11/WoW-La-forza-lavoro-delle-donne.jpg
END:VEVENT
END:VCALENDAR