BEGIN:VCALENDAR
VERSION:2.0
PRODID:-//neu [nòi] - spazio al lavoro | Il coworking nel cuore di Palermo - ECPv6.15.20//NONSGML v1.0//EN
CALSCALE:GREGORIAN
METHOD:PUBLISH
X-WR-CALNAME:neu [nòi] - spazio al lavoro | Il coworking nel cuore di Palermo
X-ORIGINAL-URL:https://neunoi.it
X-WR-CALDESC:Eventi per neu [nòi] - spazio al lavoro | Il coworking nel cuore di Palermo
REFRESH-INTERVAL;VALUE=DURATION:PT1H
X-Robots-Tag:noindex
X-PUBLISHED-TTL:PT1H
BEGIN:VTIMEZONE
TZID:Europe/Paris
BEGIN:DAYLIGHT
TZOFFSETFROM:+0100
TZOFFSETTO:+0200
TZNAME:CEST
DTSTART:20240331T010000
END:DAYLIGHT
BEGIN:STANDARD
TZOFFSETFROM:+0200
TZOFFSETTO:+0100
TZNAME:CET
DTSTART:20241027T010000
END:STANDARD
BEGIN:DAYLIGHT
TZOFFSETFROM:+0100
TZOFFSETTO:+0200
TZNAME:CEST
DTSTART:20250330T010000
END:DAYLIGHT
BEGIN:STANDARD
TZOFFSETFROM:+0200
TZOFFSETTO:+0100
TZNAME:CET
DTSTART:20251026T010000
END:STANDARD
BEGIN:DAYLIGHT
TZOFFSETFROM:+0100
TZOFFSETTO:+0200
TZNAME:CEST
DTSTART:20260329T010000
END:DAYLIGHT
BEGIN:STANDARD
TZOFFSETFROM:+0200
TZOFFSETTO:+0100
TZNAME:CET
DTSTART:20261025T010000
END:STANDARD
END:VTIMEZONE
BEGIN:VEVENT
DTSTART;TZID=Europe/Paris:20251207T170000
DTEND;TZID=Europe/Paris:20251207T200000
DTSTAMP:20260423T182554
CREATED:20251201T171338Z
LAST-MODIFIED:20251201T171338Z
UID:6957-1765126800-1765137600@neunoi.it
SUMMARY:LUCE di Domenico Pellegrino\, un abito che diventa racconto\, memoria e rinascita.
DESCRIPTION:Domenica 7 dicembre 2025\, ore 17:00\npresso neu [nòi\] – spazio al lavoro]\, via Alloro 64 – Palermo\n\nL’Arte di Crescere in collaborazione con Cesvop Palermo e CIRPE – Scuola Formazione Sicilia presenta:\n\nLUCE di Domenico Pellegrino\, un abito che diventa racconto\, memoria e rinascita.\nDecorato con foglia oro e intrecci di centrini rielaborati\, richiama il carro di Apollo e la tradizione dell’uncinetto\, trasformando fili\, nodi e ricami in simboli della forza femminile e delle storie che attraversano il tempo. La luminosità dell’oro dialoga con l’eredità dei mosaici bizantini siciliani\, dove la luce è lingua sacra e promessa di eternità.\n\nL’opera nasce all’interno di *Abiti RiBelli*\, progetto di comunità che unisce creatività e solidarietà: l’abito sarà messo all’asta per finanziare un’area fitness pubblica nel quartiere Sperone di Palermo. È un gesto artistico che diventa azione concreta\, un vestito che si ribella al silenzio e porta nuova energia a una comunità.\n\nPellegrino intreccia qui due filoni centrali della sua ricerca: la figura di Santa Rosalia e il progetto partecipativo Tu Sei Agata. In “Luce”\, la resilienza di Rosalia e Agata si fondono in una sola narrazione\, dove la tradizione si illumina e si fa futuro.\nPer l’artista\, la luce è un linguaggio vivo\, un modo per raccontare e restituire bellezza ai luoghi e alle persone.\nCon questo abito riafferma la sua visione: l’arte deve stare nella città\, tra la gente\, generare relazioni\, bellezza e cambiamento.\n\nVi Aspettiamo!
URL:https://neunoi.it/event/luce-di-domenico-pellegrino-un-abito-che-diventa-racconto-memoria-e-rinascita/
LOCATION:neu [nòi]\, via Alloro 64\, Palermo\, Italy
CATEGORIES:Mostre
ATTACH;FMTTYPE=image/jpeg:https://neunoi.it/wp-content/uploads/2025/12/Locandina-quadrata-.jpg
END:VEVENT
END:VCALENDAR