BEGIN:VCALENDAR
VERSION:2.0
PRODID:-//neu [nòi] - spazio al lavoro | Il coworking nel cuore di Palermo - ECPv6.15.20//NONSGML v1.0//EN
CALSCALE:GREGORIAN
METHOD:PUBLISH
X-ORIGINAL-URL:https://neunoi.it
X-WR-CALDESC:Eventi per neu [nòi] - spazio al lavoro | Il coworking nel cuore di Palermo
REFRESH-INTERVAL;VALUE=DURATION:PT1H
X-Robots-Tag:noindex
X-PUBLISHED-TTL:PT1H
BEGIN:VTIMEZONE
TZID:Europe/Paris
BEGIN:DAYLIGHT
TZOFFSETFROM:+0100
TZOFFSETTO:+0200
TZNAME:CEST
DTSTART:20240331T010000
END:DAYLIGHT
BEGIN:STANDARD
TZOFFSETFROM:+0200
TZOFFSETTO:+0100
TZNAME:CET
DTSTART:20241027T010000
END:STANDARD
BEGIN:DAYLIGHT
TZOFFSETFROM:+0100
TZOFFSETTO:+0200
TZNAME:CEST
DTSTART:20250330T010000
END:DAYLIGHT
BEGIN:STANDARD
TZOFFSETFROM:+0200
TZOFFSETTO:+0100
TZNAME:CET
DTSTART:20251026T010000
END:STANDARD
BEGIN:DAYLIGHT
TZOFFSETFROM:+0100
TZOFFSETTO:+0200
TZNAME:CEST
DTSTART:20260329T010000
END:DAYLIGHT
BEGIN:STANDARD
TZOFFSETFROM:+0200
TZOFFSETTO:+0100
TZNAME:CET
DTSTART:20261025T010000
END:STANDARD
END:VTIMEZONE
BEGIN:VEVENT
DTSTART;TZID=Europe/Paris:20251014T160000
DTEND;TZID=Europe/Paris:20251014T200000
DTSTAMP:20260424T000631
CREATED:20251009T094631Z
LAST-MODIFIED:20251010T094010Z
UID:6903-1760457600-1760472000@neunoi.it
SUMMARY:L'ACQUA PUBBLICA È SICURA? scopriamolo insieme
DESCRIPTION:Sei tra il 40% degli italiani che non si fida dell’acqua del rubinetto? A Palermo l’acqua pubblica è sicura\, ma la sfiducia è ancora diffusa. \nneu [nòi] – spazio al lavoro APS\, promotore del progetto H2Oh! La verità sull’acqua pubblica a Palermo\, ti invita al convegno finale per sfatare i pregiudizi e presentare i dati scientifici. \nVieni a scoprire se l’acqua del rubinetto è davvero la scelta più sostenibile\, economica e salutare per te e per la città. \n🗓️ QUANDO: 14 ottobre\, ore 16:00\n📍 DOVE: Ex-Noviziato dei Crociferi\, via Torremuzza 20\, Palermo \nIl progetto H2Oh!\, finanziato da Fondazione Punto.Sud e \, nasce per affrontare il paradosso per cui l’acqua pubblica italiana\, pur essendo conforme ai parametri di legge nel 99\,1% dei casi\, è spesso evitata per diffidenza. Questa sfiducia alimenta un consumo smodato di bottiglie di plastica\, che solo a Palermo raggiungono volumi impressionanti (l’equivalente di un campo da calcio al giorno). \nDopo mesi di indagini\, analisi chimiche e batteriologiche certificate sulle fontanelle pubbliche\, e attività di interazione con i cittadini (come i test comparativi in cieco)\, è tempo di consegnare alla cittadinanza e alle istituzioni i risultati definitivi del lavoro. \nPartecipa al convegno per scoprire: \n\nLa reale qualità dell’acqua del rubinetto a Palermo\, basata su evidenze scientifiche.\nQual è l’impatto sulla salute del consumo di acqua pubblica.\nLa verità sui falsi miti più diffusi\, come la correlazione tra calcare e calcoli renali.\nCome il sapore di cloro nell’acqua può essere facilmente eliminato.\nL’impatto ambientale del consumo di acqua in bottiglia.\n\nRelatori e Interventi \nL’evento vedrà un confronto multidisciplinare di esperti e figure chiave\, nel seguente ordine: \n\nMichelangelo Pavia – Presidente di neu [nòi] – spazio al lavoro APS e Responsabile del progetto.\nInterventi Istituzionali – Rappresentanti della Pubblica Amministrazione.\nDott.ssa Eleonora Puddu – Responsabile della Fondazione Punto.Sud.\nDott. Alessio Terenzi – Docente di chimica dell’Università degli Studi di Palermo.\nDott.ssa Caterina Carollo – Nefrologa – Cattedra e scuola di specializzazione in Nefrologia – Università degli studi di Palermo.\n\nneu [nòi] ribadisce che la fiducia nell’acqua pubblica passa per la trasparenza e l’ascolto. Vi invitiamo a partecipare per riflettere insieme su: Cosa ci serve per fidarci dell’acqua pubblica? \nL’evento è parte del progetto H2Oh! – La verità sull’acqua pubblica a Palermo\, finanziato da PuntoSud nell’ambito di NoPlanetB\, e cofinanziato da EU International Partnerships\, EUDEARProgramme e Fondazione Cariplo. \nL’evento è libero e gratuito. \n🔗 Maggiori info sul progetto e sulle attività svolte: www.h2oh.neunoi.it.
URL:https://neunoi.it/event/lacqua-pubblica-e-sicura-scopriamolo-insieme/
LOCATION:Ex-Noviziato dei Crociferi\, via Torremuzza 20\, Palermo\, Italy
CATEGORIES:H2Oh!
ATTACH;FMTTYPE=image/jpeg:https://neunoi.it/wp-content/uploads/2025/10/locandina-web-Convegno-14-ott-H2hOh.jpg
END:VEVENT
END:VCALENDAR