BEGIN:VCALENDAR
VERSION:2.0
PRODID:-//neu [nòi] - spazio al lavoro | Il coworking nel cuore di Palermo - ECPv6.15.20//NONSGML v1.0//EN
CALSCALE:GREGORIAN
METHOD:PUBLISH
X-WR-CALNAME:neu [nòi] - spazio al lavoro | Il coworking nel cuore di Palermo
X-ORIGINAL-URL:https://neunoi.it
X-WR-CALDESC:Eventi per neu [nòi] - spazio al lavoro | Il coworking nel cuore di Palermo
REFRESH-INTERVAL;VALUE=DURATION:PT1H
X-Robots-Tag:noindex
X-PUBLISHED-TTL:PT1H
BEGIN:VTIMEZONE
TZID:Europe/Paris
BEGIN:DAYLIGHT
TZOFFSETFROM:+0100
TZOFFSETTO:+0200
TZNAME:CEST
DTSTART:20230326T010000
END:DAYLIGHT
BEGIN:STANDARD
TZOFFSETFROM:+0200
TZOFFSETTO:+0100
TZNAME:CET
DTSTART:20231029T010000
END:STANDARD
BEGIN:DAYLIGHT
TZOFFSETFROM:+0100
TZOFFSETTO:+0200
TZNAME:CEST
DTSTART:20240331T010000
END:DAYLIGHT
BEGIN:STANDARD
TZOFFSETFROM:+0200
TZOFFSETTO:+0100
TZNAME:CET
DTSTART:20241027T010000
END:STANDARD
BEGIN:DAYLIGHT
TZOFFSETFROM:+0100
TZOFFSETTO:+0200
TZNAME:CEST
DTSTART:20250330T010000
END:DAYLIGHT
BEGIN:STANDARD
TZOFFSETFROM:+0200
TZOFFSETTO:+0100
TZNAME:CET
DTSTART:20251026T010000
END:STANDARD
END:VTIMEZONE
BEGIN:VEVENT
DTSTART;TZID=Europe/Paris:20241113T190000
DTEND;TZID=Europe/Paris:20241113T210000
DTSTAMP:20260423T152502
CREATED:20241024T155712Z
LAST-MODIFIED:20241024T155800Z
UID:6209-1731524400-1731531600@neunoi.it
SUMMARY:TerraNera
DESCRIPTION:Proiezione del docufilm “TerraNera – voci dalle fiamme” di Lorenzo Mercurio. \nAttraverso le testimonianze di chi ha visto e vissuto il dramma degli incendi in Sicilia tra il Luglio e il Settembre 2023\, il docufilm “TERRANERA. Voci dalle fiamme” percorrerà in senso orario la catena montuosa che circonda la Conca D’Oro e le basse Madonie\, tra i territori di Gratteri\, Lascari e Cefalù. Si tratta di un lavoro che intende dare un contributo affinché nulla di quei tragici giorni venga dimenticato\, affinché le istituzioni prendano seri provvedimenti in merito alla prevenzione degli incendi boschivi in ​​Sicilia\, dove il fenomeno si ripete ormai con sempre più frequenza e drammaticità. \nParte della colonna sonora è stata realizzata dai Silver Nightmares\, gruppo Prog Rock di Palermo. \nDurata: 48 minuti
URL:https://neunoi.it/event/terranera/
CATEGORIES:Cineforum
ATTACH;FMTTYPE=image/jpeg:https://neunoi.it/wp-content/uploads/2024/10/Terranera-013.jpg
END:VEVENT
END:VCALENDAR