BEGIN:VCALENDAR
VERSION:2.0
PRODID:-//neu [nòi] - spazio al lavoro | Il coworking nel cuore di Palermo - ECPv6.15.20//NONSGML v1.0//EN
CALSCALE:GREGORIAN
METHOD:PUBLISH
X-ORIGINAL-URL:https://neunoi.it
X-WR-CALDESC:Eventi per neu [nòi] - spazio al lavoro | Il coworking nel cuore di Palermo
REFRESH-INTERVAL;VALUE=DURATION:PT1H
X-Robots-Tag:noindex
X-PUBLISHED-TTL:PT1H
BEGIN:VTIMEZONE
TZID:Europe/Paris
BEGIN:DAYLIGHT
TZOFFSETFROM:+0100
TZOFFSETTO:+0200
TZNAME:CEST
DTSTART:20230326T010000
END:DAYLIGHT
BEGIN:STANDARD
TZOFFSETFROM:+0200
TZOFFSETTO:+0100
TZNAME:CET
DTSTART:20231029T010000
END:STANDARD
BEGIN:DAYLIGHT
TZOFFSETFROM:+0100
TZOFFSETTO:+0200
TZNAME:CEST
DTSTART:20240331T010000
END:DAYLIGHT
BEGIN:STANDARD
TZOFFSETFROM:+0200
TZOFFSETTO:+0100
TZNAME:CET
DTSTART:20241027T010000
END:STANDARD
BEGIN:DAYLIGHT
TZOFFSETFROM:+0100
TZOFFSETTO:+0200
TZNAME:CEST
DTSTART:20250330T010000
END:DAYLIGHT
BEGIN:STANDARD
TZOFFSETFROM:+0200
TZOFFSETTO:+0100
TZNAME:CET
DTSTART:20251026T010000
END:STANDARD
END:VTIMEZONE
BEGIN:VEVENT
DTSTART;TZID=Europe/Paris:20241026T100000
DTEND;TZID=Europe/Paris:20241026T120000
DTSTAMP:20260423T141219
CREATED:20241024T092908Z
LAST-MODIFIED:20241024T093109Z
UID:6203-1729936800-1729944000@neunoi.it
SUMMARY:Divertiamoci con la frutta martorana a cura di Ass. Panta Rei
DESCRIPTION:Sabato 26 ottobre alle ore 10.00\, l’Associazione Culturale Pantearei invita tutti i bambini a partecipare a un laboratorio speciale dedicato alla creazione della Frutta Martorana\, un dolce tipico della tradizione siciliana legato alla Festa dei Morti. Durante questa attività\, i piccoli partecipanti potranno dare forma ai dolci utilizzando la pasta di mandorle e\, successivamente\, divertirsi a colorarli\, esprimendo tutta la loro fantasia e creatività.\nOltre a mettere le mani in pasta\, racconteremo la storia di questa antica usanza\, svelando come nasce la tradizione della Frutta Martorana e l’importanza della Festa dei Morti in Sicilia\, una celebrazione che da sempre ha come protagonisti proprio i bambini. Scopriremo insieme il significato di questa festa\, che unisce dolcezza e memoria in una giornata speciale.\nIl laboratorio durerà due ore e\, al termine\, ogni bambino potrà portare a casa i dolci che ha creato con le proprie mani. Un’esperienza unica per divertirsi\, imparare e conoscere una delle tradizioni più amate della nostra terra! \nPrenotazione obbligatoria\, posti limitati. 💰Ticket: € 12\,00\nPer prenotare compilare il seguente form: https://shorturl.at/VZp0f\nVi aspettiamo numerosi come sempre
URL:https://neunoi.it/event/divertiamoci-con-la-frutta-martorana/
LOCATION:neu [nòi]\, via Alloro 64\, Palermo\, Italy
CATEGORIES:Eventi per bambini
ATTACH;FMTTYPE=image/jpeg:https://neunoi.it/wp-content/uploads/2024/10/Lab-frutta-martorana.jpg
END:VEVENT
BEGIN:VEVENT
DTSTART;TZID=Europe/Paris:20241026T120000
DTEND;TZID=Europe/Paris:20241026T140000
DTSTAMP:20260423T141219
CREATED:20241017T135351Z
LAST-MODIFIED:20241017T135547Z
UID:6157-1729944000-1729951200@neunoi.it
SUMMARY:Oltre i Diritti: racconti di sorellanza e resistenza
DESCRIPTION:Giulia Siviero è femminista\, fa politica nei movimenti\, lavora al Post e ha collaborato con altre testate\, tra cui il manifesto\, Internazionale\, Valigia Blu e L’Essenziale\, occupandosi di questioni di genere e politica delle donne. In “Fare Femminismo” (Nottetempo) riferisce racconti e storie intessute di elaborazione teorica: su come i femminismi abbiano organizzato in piazza funerali alla femminilità tradizionale e liberato topi alle fiere per matrimoni\, inventato dispositivi per abortire frugando nei negozi per acquari\, distrutto proprietà o opere d’arte. Insieme a Giada Saguto\, invita a recuperare una genealogia femminista radicale cui poter attingere per rimettere al mondo desideri\, invenzioni antagoniste\, esperienze di sorellanza e sovversione\, gesti di libertà.
URL:https://neunoi.it/event/oltre-i-diritti-racconti-di-sorellanza-e-resistenza/
LOCATION:Cre.Zi. Plus\, Cantieri culturali alla Zisa\, Palermo\, 90100\, Italy
CATEGORIES:Presentazioni libro
ATTACH;FMTTYPE=image/jpeg:https://neunoi.it/wp-content/uploads/2024/10/Oltre-i-diritti1.jpg
END:VEVENT
END:VCALENDAR