BEGIN:VCALENDAR
VERSION:2.0
PRODID:-//neu [nòi] - spazio al lavoro | Il coworking nel cuore di Palermo - ECPv6.15.20//NONSGML v1.0//EN
CALSCALE:GREGORIAN
METHOD:PUBLISH
X-ORIGINAL-URL:https://neunoi.it
X-WR-CALDESC:Eventi per neu [nòi] - spazio al lavoro | Il coworking nel cuore di Palermo
REFRESH-INTERVAL;VALUE=DURATION:PT1H
X-Robots-Tag:noindex
X-PUBLISHED-TTL:PT1H
BEGIN:VTIMEZONE
TZID:Europe/Paris
BEGIN:DAYLIGHT
TZOFFSETFROM:+0100
TZOFFSETTO:+0200
TZNAME:CEST
DTSTART:20230326T010000
END:DAYLIGHT
BEGIN:STANDARD
TZOFFSETFROM:+0200
TZOFFSETTO:+0100
TZNAME:CET
DTSTART:20231029T010000
END:STANDARD
BEGIN:DAYLIGHT
TZOFFSETFROM:+0100
TZOFFSETTO:+0200
TZNAME:CEST
DTSTART:20240331T010000
END:DAYLIGHT
BEGIN:STANDARD
TZOFFSETFROM:+0200
TZOFFSETTO:+0100
TZNAME:CET
DTSTART:20241027T010000
END:STANDARD
BEGIN:DAYLIGHT
TZOFFSETFROM:+0100
TZOFFSETTO:+0200
TZNAME:CEST
DTSTART:20250330T010000
END:DAYLIGHT
BEGIN:STANDARD
TZOFFSETFROM:+0200
TZOFFSETTO:+0100
TZNAME:CET
DTSTART:20251026T010000
END:STANDARD
END:VTIMEZONE
BEGIN:VEVENT
DTSTART;TZID=Europe/Paris:20241010T183000
DTEND;TZID=Europe/Paris:20241010T203000
DTSTAMP:20260423T140309
CREATED:20241002T070401Z
LAST-MODIFIED:20241002T070509Z
UID:6016-1728585000-1728592200@neunoi.it
SUMMARY:Funambolica Tour | Palermo
DESCRIPTION:Presentazione del libro “33 funamboliche storie di facilitazione”\nIl libro è un corso intensivo sulla gestione dei gruppi\, basato su pratica ed esperienza. Ogni autorə racconta un momento cruciale della propria vita professionale che ha cambiato il suo modo di lavorare. Storie di situazioni complicate e senza via d’uscita\, con riflessioni su lezioni apprese e alternative possibili. Al centro\, persone e gruppi che contribuiscono a un obiettivo comune.\nAlla presentazione saranno presenti la curatrice e co-autrice Maria Cristina Lavazza e i co-autori Michelangelo Pavia e Roberto Manzone\, con la partecipazione di Preziosa Salatino\, fondatrice di teatro Atlante e formatrice teatrale e Giuseppe Castellucci che modererà l’incontro
URL:https://neunoi.it/event/funambolica-tour-palermo/
LOCATION:Teatro Atlante\, via Vetriera 23\, Palermo\, Palermo\, 90133\, Italy
CATEGORIES:Presentazioni libro
ATTACH;FMTTYPE=image/png:https://neunoi.it/wp-content/uploads/2024/10/Banner_33-Funamboliche_v1_Palermo_Instagram_Post.png
END:VEVENT
END:VCALENDAR