BEGIN:VCALENDAR
VERSION:2.0
PRODID:-//neu [nòi] - spazio al lavoro | Il coworking nel cuore di Palermo - ECPv6.15.20//NONSGML v1.0//EN
CALSCALE:GREGORIAN
METHOD:PUBLISH
X-WR-CALNAME:neu [nòi] - spazio al lavoro | Il coworking nel cuore di Palermo
X-ORIGINAL-URL:https://neunoi.it
X-WR-CALDESC:Eventi per neu [nòi] - spazio al lavoro | Il coworking nel cuore di Palermo
REFRESH-INTERVAL;VALUE=DURATION:PT1H
X-Robots-Tag:noindex
X-PUBLISHED-TTL:PT1H
BEGIN:VTIMEZONE
TZID:Europe/Paris
BEGIN:DAYLIGHT
TZOFFSETFROM:+0100
TZOFFSETTO:+0200
TZNAME:CEST
DTSTART:20240331T010000
END:DAYLIGHT
BEGIN:STANDARD
TZOFFSETFROM:+0200
TZOFFSETTO:+0100
TZNAME:CET
DTSTART:20241027T010000
END:STANDARD
BEGIN:DAYLIGHT
TZOFFSETFROM:+0100
TZOFFSETTO:+0200
TZNAME:CEST
DTSTART:20250330T010000
END:DAYLIGHT
BEGIN:STANDARD
TZOFFSETFROM:+0200
TZOFFSETTO:+0100
TZNAME:CET
DTSTART:20251026T010000
END:STANDARD
BEGIN:DAYLIGHT
TZOFFSETFROM:+0100
TZOFFSETTO:+0200
TZNAME:CEST
DTSTART:20260329T010000
END:DAYLIGHT
BEGIN:STANDARD
TZOFFSETFROM:+0200
TZOFFSETTO:+0100
TZNAME:CET
DTSTART:20261025T010000
END:STANDARD
END:VTIMEZONE
BEGIN:VEVENT
DTSTART;TZID=Europe/Paris:20250612T163000
DTEND;TZID=Europe/Paris:20250612T200000
DTSTAMP:20260421T153218
CREATED:20250605T071028Z
LAST-MODIFIED:20250611T083928Z
UID:6771-1749745800-1749758400@neunoi.it
SUMMARY:Scriviamo di Acqua!
DESCRIPTION:Laboratorio creativo e sensoriale al Giardino Inglese \n📅 Giovedì 12 Giugno\n🕟 Dalle 16:30 alle 20:00\n📍 Giardino Inglese\, Palermo \nUnisciti a noi per un pomeriggio tra parole\, gusto e riflessioni sull’acqua pubblica!\n“Scriviamo di Acqua!” è l’evento ideato da H2oH! – La verità sull’acqua pubblica a Palermo\, un progetto finanziato da PuntoSud nell’ambito di NoPlanetB e cofinanziato dall’Unione Europea. \nIn collaborazione con il NewBookClub\, esploreremo il tema dell’acqua pubblica attraverso la scrittura condivisa e un’esperienza sensoriale. Il laboratorio prevede: \nAssaggi in cieco per riscoprire il sapore dell’acqua.\nLa scelta collettiva di 3 temi di scrittura: \n-1 dedicato all’acqua pubblica a Palermo \n-2 sorteggiati tra le proposte dei partecipanti\, per liberare la creatività e dare vita a nuovi racconti e riflessioni. \nÈ il momento di scrivere\, ascoltare e confrontarsi. \nVieni a scoprire la verità sull’acqua pubblica a Palermo e raccontala con noi.\n👉Compila il form e prenota il tuo posto: https://docs.google.com/forms/d/e/1FAIpQLSeDTWy2EXdTivhKDci40ZZTfAXnIy8enpKOuVmKnP6vy2oTFw/viewform \nPer saperne di più sul progetto H2Oh!\nhttps://www.h2oh.neunoi.it/
URL:https://neunoi.it/event/scriviamo-di-acqua/
LOCATION:Giardino Inglese
CATEGORIES:H2Oh!
ATTACH;FMTTYPE=image/jpeg:https://neunoi.it/wp-content/uploads/2025/06/Evento_12_giugno_Giardino_Inglese_H2oh-2.jpg
END:VEVENT
END:VCALENDAR