BEGIN:VCALENDAR
VERSION:2.0
PRODID:-//neu [nòi] - spazio al lavoro | Il coworking nel cuore di Palermo - ECPv6.15.20//NONSGML v1.0//EN
CALSCALE:GREGORIAN
METHOD:PUBLISH
X-WR-CALNAME:neu [nòi] - spazio al lavoro | Il coworking nel cuore di Palermo
X-ORIGINAL-URL:https://neunoi.it
X-WR-CALDESC:Eventi per neu [nòi] - spazio al lavoro | Il coworking nel cuore di Palermo
REFRESH-INTERVAL;VALUE=DURATION:PT1H
X-Robots-Tag:noindex
X-PUBLISHED-TTL:PT1H
BEGIN:VTIMEZONE
TZID:Europe/Paris
BEGIN:DAYLIGHT
TZOFFSETFROM:+0100
TZOFFSETTO:+0200
TZNAME:CEST
DTSTART:20230326T010000
END:DAYLIGHT
BEGIN:STANDARD
TZOFFSETFROM:+0200
TZOFFSETTO:+0100
TZNAME:CET
DTSTART:20231029T010000
END:STANDARD
BEGIN:DAYLIGHT
TZOFFSETFROM:+0100
TZOFFSETTO:+0200
TZNAME:CEST
DTSTART:20240331T010000
END:DAYLIGHT
BEGIN:STANDARD
TZOFFSETFROM:+0200
TZOFFSETTO:+0100
TZNAME:CET
DTSTART:20241027T010000
END:STANDARD
BEGIN:DAYLIGHT
TZOFFSETFROM:+0100
TZOFFSETTO:+0200
TZNAME:CEST
DTSTART:20250330T010000
END:DAYLIGHT
BEGIN:STANDARD
TZOFFSETFROM:+0200
TZOFFSETTO:+0100
TZNAME:CET
DTSTART:20251026T010000
END:STANDARD
END:VTIMEZONE
BEGIN:VEVENT
DTSTART;TZID=Europe/Paris:20241030T183000
DTEND;TZID=Europe/Paris:20241030T203000
DTSTAMP:20260421T122136
CREATED:20241001T190817Z
LAST-MODIFIED:20241001T190817Z
UID:6007-1730313000-1730320200@neunoi.it
SUMMARY:Arduino Club - Sensori Ambientali
DESCRIPTION:
URL:https://neunoi.it/event/arduino-club-sensori-ambientali/
LOCATION:neu [nòi]\, via Alloro 64\, Palermo\, Italy
CATEGORIES:Arduino Club
ATTACH;FMTTYPE=image/jpeg:https://neunoi.it/wp-content/uploads/2024/10/Carosello-IG-Arduino-Club-Palermo1.jpg
END:VEVENT
END:VCALENDAR