BEGIN:VCALENDAR
VERSION:2.0
PRODID:-//neu [nòi] - spazio al lavoro | Il coworking nel cuore di Palermo - ECPv6.15.20//NONSGML v1.0//EN
CALSCALE:GREGORIAN
METHOD:PUBLISH
X-WR-CALNAME:neu [nòi] - spazio al lavoro | Il coworking nel cuore di Palermo
X-ORIGINAL-URL:https://neunoi.it
X-WR-CALDESC:Eventi per neu [nòi] - spazio al lavoro | Il coworking nel cuore di Palermo
REFRESH-INTERVAL;VALUE=DURATION:PT1H
X-Robots-Tag:noindex
X-PUBLISHED-TTL:PT1H
BEGIN:VTIMEZONE
TZID:Europe/Paris
BEGIN:DAYLIGHT
TZOFFSETFROM:+0100
TZOFFSETTO:+0200
TZNAME:CEST
DTSTART:20240331T010000
END:DAYLIGHT
BEGIN:STANDARD
TZOFFSETFROM:+0200
TZOFFSETTO:+0100
TZNAME:CET
DTSTART:20241027T010000
END:STANDARD
BEGIN:DAYLIGHT
TZOFFSETFROM:+0100
TZOFFSETTO:+0200
TZNAME:CEST
DTSTART:20250330T010000
END:DAYLIGHT
BEGIN:STANDARD
TZOFFSETFROM:+0200
TZOFFSETTO:+0100
TZNAME:CET
DTSTART:20251026T010000
END:STANDARD
BEGIN:DAYLIGHT
TZOFFSETFROM:+0100
TZOFFSETTO:+0200
TZNAME:CEST
DTSTART:20260329T010000
END:DAYLIGHT
BEGIN:STANDARD
TZOFFSETFROM:+0200
TZOFFSETTO:+0100
TZNAME:CET
DTSTART:20261025T010000
END:STANDARD
END:VTIMEZONE
BEGIN:VEVENT
DTSTART;TZID=Europe/Paris:20251214T103000
DTEND;TZID=Europe/Paris:20251214T183000
DTSTAMP:20260423T121344
CREATED:20251209T100158Z
LAST-MODIFIED:20251210T190241Z
UID:6964-1765708200-1765737000@neunoi.it
SUMMARY:🎄 SCAMBIAMOCI IL NATALE! 🎄
DESCRIPTION:Quest’anno festeggiamo il Natale con un evento dedicato alla condivisione\, alla sostenibilità e all’economia circolare: Scambiamoci il Natale!Un’occasione per dare nuova vita agli oggetti che non utilizzi più e trovare piccoli tesori senza produrre sprechi. \n\nCos’è “Scambiamoci il Natale”?\nNon un semplice mercatino e non il solito swap party\, ma un’esperienza di scambio e partecipazione nel cuore della Kalsa.Ogni oggetto porta con sé una storia e ogni scambio diventa un gesto concreto contro lo spreco. \n\nCome funziona\n\n\nPorta fino a 10 oggetti in buone condizioni: libri\, giochi\, decorazioni\, abiti o piccoli oggetti utili. \n\n\nRicevi i nostri gettoni natalizi. \n\n\nUtilizza i gettoni per scegliere nuovi oggetti\, fare regali o tesserarti a ZERO\, la nostra Biblioteca delle Cose. \n\n\n\nQuando e Dove\nDomenica 14 dicembreDalle 10:30 alle 18:30Orbita – Casa della Partecipazione KalsaVia Alloro 95\, Palermo \n\nScopri ZERO – La Biblioteca delle Cose\nDurante l’evento sarà possibile conoscere da vicino ZERO\, il servizio di condivisione che mette a disposizione centinaia di attrezzi\, strumenti\, accessori\, giochi e molto altro.Con una sola tessera puoi utilizzare tutto l’anno ciò di cui hai bisogno\, senza acquistare e senza sprechi. \n\nOfferte Speciali dell’Evento\n\n\nPorta un oggetto adatto a ZERO → tesseramento omaggio \n\n\nTesserati durante l’evento → ricevi punti extra per lo swap \n\n\nUsa i tuoi gettoni natalizi per regalare o regalarti un tesseramento \n\n\n\nUna caccia al tesoro per il quartiere.\nLa mattina dell’evento\, a partire dalle 10:00. Potrai partecipare ad una caccia al tesoro alla scoperta del quartiere\, con buoni Feltrinelli in premio per i primi tre classificati.\nClicca qui per saperne di più \nPerché partecipare\nDai nuova vita agli oggetti che non utilizzi più \nRiduci gli sprechi e sostieni la cultura del riuso \nTrova piccoli tesori unici e sostenibili \nVivi un’esperienza comunitaria nel quartiere \nContribuisci a un modello concreto di economia circolare
URL:https://neunoi.it/event/%f0%9f%8e%84-scambiamoci-il-natale-%f0%9f%8e%84/
LOCATION:Orbita – Casa della Partecipazione Kalsa\, via Alloro 95\, Palermo\, Italy
CATEGORIES:Quartiere
ATTACH;FMTTYPE=image/jpeg:https://neunoi.it/wp-content/uploads/2025/12/Locandina-quadrata-1-1.jpg
END:VEVENT
END:VCALENDAR